BEGIN:VCALENDAR
VERSION:2.0
PRODID:-//Freiwillige Feuerwehr Streitau - ECPv6.15.20//NONSGML v1.0//EN
CALSCALE:GREGORIAN
METHOD:PUBLISH
X-ORIGINAL-URL:https://ff-streitau.de
X-WR-CALDESC:Veranstaltungen für Freiwillige Feuerwehr Streitau
REFRESH-INTERVAL;VALUE=DURATION:PT1H
X-Robots-Tag:noindex
X-PUBLISHED-TTL:PT1H
BEGIN:VTIMEZONE
TZID:Europe/Berlin
BEGIN:DAYLIGHT
TZOFFSETFROM:+0100
TZOFFSETTO:+0200
TZNAME:CEST
DTSTART:20230326T010000
END:DAYLIGHT
BEGIN:STANDARD
TZOFFSETFROM:+0200
TZOFFSETTO:+0100
TZNAME:CET
DTSTART:20231029T010000
END:STANDARD
BEGIN:DAYLIGHT
TZOFFSETFROM:+0100
TZOFFSETTO:+0200
TZNAME:CEST
DTSTART:20240331T010000
END:DAYLIGHT
BEGIN:STANDARD
TZOFFSETFROM:+0200
TZOFFSETTO:+0100
TZNAME:CET
DTSTART:20241027T010000
END:STANDARD
BEGIN:DAYLIGHT
TZOFFSETFROM:+0100
TZOFFSETTO:+0200
TZNAME:CEST
DTSTART:20250330T010000
END:DAYLIGHT
BEGIN:STANDARD
TZOFFSETFROM:+0200
TZOFFSETTO:+0100
TZNAME:CET
DTSTART:20251026T010000
END:STANDARD
END:VTIMEZONE
BEGIN:VEVENT
DTSTART;TZID=Europe/Berlin:20241011T173000
DTEND;TZID=Europe/Berlin:20241011T233000
DTSTAMP:20260424T145317
CREATED:20231222T072205Z
LAST-MODIFIED:20240111T203624Z
UID:2409-1728667800-1728689400@ff-streitau.de
SUMMARY:Verein | Kerwa - Haxn Essen
DESCRIPTION:Haxen & Krenfleisch anlässlich der Streitauer Kerwa. \nAb 17:30 Uhr im Feuerwehrhaus Streitau. \nDetails folgen.
URL:https://ff-streitau.de/event/kerwa-haxn-essen/
LOCATION:Feuerwehrhaus Streitau
CATEGORIES:Dorfgemeinschaft,Verein
END:VEVENT
END:VCALENDAR