BEGIN:VCALENDAR
VERSION:2.0
PRODID:-//Freiwillige Feuerwehr Streitau - ECPv6.15.20//NONSGML v1.0//EN
CALSCALE:GREGORIAN
METHOD:PUBLISH
X-WR-CALNAME:Freiwillige Feuerwehr Streitau
X-ORIGINAL-URL:https://ff-streitau.de
X-WR-CALDESC:Veranstaltungen für Freiwillige Feuerwehr Streitau
REFRESH-INTERVAL;VALUE=DURATION:PT1H
X-Robots-Tag:noindex
X-PUBLISHED-TTL:PT1H
BEGIN:VTIMEZONE
TZID:Europe/Berlin
BEGIN:DAYLIGHT
TZOFFSETFROM:+0100
TZOFFSETTO:+0200
TZNAME:CEST
DTSTART:20230326T010000
END:DAYLIGHT
BEGIN:STANDARD
TZOFFSETFROM:+0200
TZOFFSETTO:+0100
TZNAME:CET
DTSTART:20231029T010000
END:STANDARD
BEGIN:DAYLIGHT
TZOFFSETFROM:+0100
TZOFFSETTO:+0200
TZNAME:CEST
DTSTART:20240331T010000
END:DAYLIGHT
BEGIN:STANDARD
TZOFFSETFROM:+0200
TZOFFSETTO:+0100
TZNAME:CET
DTSTART:20241027T010000
END:STANDARD
BEGIN:DAYLIGHT
TZOFFSETFROM:+0100
TZOFFSETTO:+0200
TZNAME:CEST
DTSTART:20250330T010000
END:DAYLIGHT
BEGIN:STANDARD
TZOFFSETFROM:+0200
TZOFFSETTO:+0100
TZNAME:CET
DTSTART:20251026T010000
END:STANDARD
END:VTIMEZONE
BEGIN:VEVENT
DTSTART;TZID=Europe/Berlin:20240108T150000
DTEND;TZID=Europe/Berlin:20240108T170000
DTSTAMP:20260425T014844
CREATED:20231222T071422Z
LAST-MODIFIED:20240111T204009Z
UID:2400-1704726000-1704733200@ff-streitau.de
SUMMARY:Verein | Christbaum sammeln 2024
DESCRIPTION:Wir sammeln Ihren Weihnachtsbaum nach den Feiertagen! \nBitte stellen Sie ihren Weihnachtsbaum am 8. Januar 2024 gut sichtbar bis 15 Uhr am Straßenrand bereit. \nDie Sammelaktion ist kostenlos. Falls Sie uns unterstützen möchten\, freuen wir uns über eine freiwillige Spende. Vielen Dank.
URL:https://ff-streitau.de/event/christbaum-sammeln-2024/
LOCATION:Gemeindegebiet Streitau
CATEGORIES:Dorfgemeinschaft,Verein
END:VEVENT
END:VCALENDAR