BEGIN:VCALENDAR
VERSION:2.0
PRODID:-//Freiwillige Feuerwehr Streitau - ECPv6.15.20//NONSGML v1.0//EN
CALSCALE:GREGORIAN
METHOD:PUBLISH
X-WR-CALNAME:Freiwillige Feuerwehr Streitau
X-ORIGINAL-URL:https://ff-streitau.de
X-WR-CALDESC:Veranstaltungen für Freiwillige Feuerwehr Streitau
REFRESH-INTERVAL;VALUE=DURATION:PT1H
X-Robots-Tag:noindex
X-PUBLISHED-TTL:PT1H
BEGIN:VTIMEZONE
TZID:Europe/Berlin
BEGIN:DAYLIGHT
TZOFFSETFROM:+0100
TZOFFSETTO:+0200
TZNAME:CEST
DTSTART:20240331T010000
END:DAYLIGHT
BEGIN:STANDARD
TZOFFSETFROM:+0200
TZOFFSETTO:+0100
TZNAME:CET
DTSTART:20241027T010000
END:STANDARD
BEGIN:DAYLIGHT
TZOFFSETFROM:+0100
TZOFFSETTO:+0200
TZNAME:CEST
DTSTART:20250330T010000
END:DAYLIGHT
BEGIN:STANDARD
TZOFFSETFROM:+0200
TZOFFSETTO:+0100
TZNAME:CET
DTSTART:20251026T010000
END:STANDARD
BEGIN:DAYLIGHT
TZOFFSETFROM:+0100
TZOFFSETTO:+0200
TZNAME:CEST
DTSTART:20260329T010000
END:DAYLIGHT
BEGIN:STANDARD
TZOFFSETFROM:+0200
TZOFFSETTO:+0100
TZNAME:CET
DTSTART:20261025T010000
END:STANDARD
END:VTIMEZONE
BEGIN:VEVENT
DTSTART;VALUE=DATE:20250711
DTEND;VALUE=DATE:20250712
DTSTAMP:20260424T013640
CREATED:20250110T084812Z
LAST-MODIFIED:20250110T084812Z
UID:3112-1752192000-1752278399@ff-streitau.de
SUMMARY:Verein | Arbeitsdienst Wiesenfest Gefrees
DESCRIPTION:
URL:https://ff-streitau.de/event/verein-arbeitsdienst-wiesenfest-gefrees/
LOCATION:Gefrees
CATEGORIES:Dorfgemeinschaft,Verein
END:VEVENT
BEGIN:VEVENT
DTSTART;VALUE=DATE:20250712
DTEND;VALUE=DATE:20250713
DTSTAMP:20260424T013640
CREATED:20250110T084856Z
LAST-MODIFIED:20250110T084856Z
UID:3114-1752278400-1752364799@ff-streitau.de
SUMMARY:Verein | Arbeitsdienst Wiesenfest Gefrees
DESCRIPTION:
URL:https://ff-streitau.de/event/verein-arbeitsdienst-wiesenfest-gefrees-2/
LOCATION:Gefrees
CATEGORIES:Dorfgemeinschaft,Verein
END:VEVENT
BEGIN:VEVENT
DTSTART;TZID=Europe/Berlin:20250713T124500
DTEND;TZID=Europe/Berlin:20250713T140000
DTSTAMP:20260424T013640
CREATED:20250110T085002Z
LAST-MODIFIED:20250110T085002Z
UID:3116-1752410700-1752415200@ff-streitau.de
SUMMARY:Verein & Aktive Wehr | Wiesenfest Gefrees Festzug
DESCRIPTION:
URL:https://ff-streitau.de/event/verein-aktive-wehr-wiesenfest-gefrees-festzug/
LOCATION:Gefrees
CATEGORIES:Dorfgemeinschaft,Feuerwehrdienst,Verein
END:VEVENT
BEGIN:VEVENT
DTSTART;TZID=Europe/Berlin:20250714T124500
DTEND;TZID=Europe/Berlin:20250714T140000
DTSTAMP:20260424T013640
CREATED:20250110T085056Z
LAST-MODIFIED:20250110T085056Z
UID:3118-1752497100-1752501600@ff-streitau.de
SUMMARY:Verein & Aktive Wehr | Wiesenfest Gefrees Festzug
DESCRIPTION:
URL:https://ff-streitau.de/event/verein-aktive-wehr-wiesenfest-gefrees-festzug-2/
LOCATION:Gefrees
CATEGORIES:Dorfgemeinschaft,Feuerwehrdienst,Verein
END:VEVENT
END:VCALENDAR